BEGIN:VCALENDAR
VERSION:2.0
PRODID:-//Prior Performing Arts Center - ECPv6.9.1//NONSGML v1.0//EN
CALSCALE:GREGORIAN
METHOD:PUBLISH
X-WR-CALNAME:Prior Performing Arts Center
X-ORIGINAL-URL:https://priorperformingartscenter.holycross.edu
X-WR-CALDESC:Events for Prior Performing Arts Center
REFRESH-INTERVAL;VALUE=DURATION:PT1H
X-Robots-Tag:noindex
X-PUBLISHED-TTL:PT1H
BEGIN:VTIMEZONE
TZID:America/New_York
BEGIN:DAYLIGHT
TZOFFSETFROM:-0500
TZOFFSETTO:-0400
TZNAME:EDT
DTSTART:20260308T070000
END:DAYLIGHT
BEGIN:STANDARD
TZOFFSETFROM:-0400
TZOFFSETTO:-0500
TZNAME:EST
DTSTART:20261101T060000
END:STANDARD
END:VTIMEZONE
BEGIN:VEVENT
DTSTART;VALUE=DATE:20260416
DTEND;VALUE=DATE:20260427
DTSTAMP:20260422T063525
CREATED:20250820T210216Z
LAST-MODIFIED:20260419T061632Z
UID:4956-1776297600-1777247999@priorperformingartscenter.holycross.edu
SUMMARY:Curiouser & Curiouser
DESCRIPTION:Department of Theatre & Dance\n			\n				\n				\n				\n				\n				Curiouser & Curiouser\n			\n				\n				\n				\n				\n				Directed by Lynn Kremer\nInspired by Alice’s Adventures in Wonderland and Through the Looking-Glass by Lewis Carroll\n			\n				Buy Tickets\n			\n				\n				\n				\n				\n				 \n\n\nIn Curiouser & Curiouser\, adapted and directed by Lynn Kremer and featuring original music composed by Karl Hinze ’10\, an elderly Alice recalls her childhood memories of hearing fantastic stories from Charles Lutwidge Dodgson\, better known as Lewis Carroll. Images and text from Carroll’s beloved books swirl on stage in this original dance/drama that asks the question\, “Who am I in this world?” Music\, puppets\, projections\, and dance are integrated into a devised piece in collaboration with artists I Nyoman Catra\, Kevin Fulton\, Kurt Hultgren\, Lucas Tahiruzzaman Syed\, Qingan Zhang\, BOOM! (Leah Smith and Michael Townsend)\, and Dramaturg Christian Krenek ’12. \nThis production from the Holy Cross Department of Theatre & Dance is sure to charm lovers of Carroll and audiences of all ages. \n\n\n			\n			\n				\n				\n				\n				\n			\n				\n				\n				\n				\n				\n				\n				\n				\n				\n				\n				 \n\nEVENING PRESENTATIONS\n\n			\n				\n				\n				\n				\n				 \n\nApril 16 @ 7:30 p.m.April 17 @ 7:30 p.m.April 18 @ 7:30 p.m.April 23 @ 7:30 p.m.April 24 @ 7:30 p.m.April 25 @ 7:30 p.m. \n\n			\n				\n				\n				\n				\n				 \n\nMATINEE PRESENTATIONS\n\n			\n				\n				\n				\n				\n				 \n\nApril 19 @ 2 p.m. [SOLD OUT]April 26 @ 2 p.m. \n\n			\n			\n				\n				\n				\n				\n			\n				\n				\n				\n				\n				\n				\n				\n				\n				\n				\n				Details\n \n			\n				\n				\n				\n				\n				April 16-18\, 23-25 @ 7:30 p.m. April 19 & 26 @ 2 p.m. \n			\n			\n				\n				\n				\n				\n				\n				\n				\n				\n				\n				Price\n \n			\n				\n				\n				\n				\n				$15 Public | $10 Holy Cross Community \n			\n			\n				\n				\n				\n				\n				\n				\n				\n				\n				\n				Venue\n \n			\n				\n				\n				\n				\n				\n\nBoroughs TheatreThe Prior Performing Arts Center
URL:https://priorperformingartscenter.holycross.edu/event/curiouser-and-curiouser-theatre-holy-cross/
LOCATION:DEPARTMENT OF THEATRE & DANCE – Boroughs Theatre –\, 1 College St\, Worcester\, MA\, 01610\, United States
CATEGORIES:Department of Theatre & Dance,Events at The Prior
ATTACH;FMTTYPE=image/jpeg:https://priorperformingartscenter.holycross.edu/wp-content/uploads/2025/08/curiouser-landscape-web.jpg
END:VEVENT
BEGIN:VEVENT
DTSTART;VALUE=DATE:20260422
DTEND;VALUE=DATE:20260523
DTSTAMP:20260422T063525
CREATED:20260415T184633Z
LAST-MODIFIED:20260415T185120Z
UID:6267-1776816000-1779494399@priorperformingartscenter.holycross.edu
SUMMARY:A P A R T: Works from the 2026 Senior Concentration Seminar
DESCRIPTION:Cantor Art Gallery & Department of Visual Arts\n			\n				\n				\n				\n				\n				A P A R T\n			\n				\n				\n				\n				\n				Works from the 2026 Senior Concentration Seminar\n			\n				\n				\n				\n				\n				 \n\nFeaturing work by: Emilia Bertram | Evelyn Fey | Maeve Foley | Jerry Keefe | Sydney McDonald | Sophie Sundaram | Val Sutherland | Fabjola Telhaj | Madeline Teresa Zafon-Whalen  \n\n			\n				\n				\n				\n				\n				 \n\nThe Cantor Art Gallery and the Department of Visual Arts are honored to present A P A R T\, an exhibition of the work of studio art majors from the College of the Holy Cross. Throughout their senior year\, the students have participated in a rigorous capstone seminar\, honing their artistic practice through independent work and experimentation. Collaborating closely with studio faculty\, they developed their unique voices and a cohesive body of work. \n\n			\n			\n				\n				\n				\n				\n			\n				\n				\n				\n				\n				\n				\n				\n				\n				\n				\n				Exhibition Events\n			\n				\n				\n				\n				\n				 \n\nAcademic Conference Presentations by Senior Studio MajorsWednesday\, April 22 | 2:30-4:30 p.m.Cantor Art Gallery \n\n			\n				\n				\n				\n				\n				 \n\nOpening ReceptionWednesday\, April 22 | 5:30-7 p.m.Cantor Art Gallery \n\n			\n			\n				\n				\n				\n				\n			\n				\n				\n				\n				\n				\n				\n				\n				\n				\n				\n				Details\n \n			\n				\n				\n				\n				\n				Apr 22-May 22\, 2026 \n			\n			\n				\n				\n				\n				\n				\n				\n				\n				\n				\n				Price\n \n			\n				\n				\n				\n				\n				Free Entry \n			\n			\n				\n				\n				\n				\n				\n				\n				\n				\n				\n				Venue\n \n			\n				\n				\n				\n				\n				\n\nIris & B. Gerald Cantor Art Gallery3rd Floor\, The Prior Performing Arts Center
URL:https://priorperformingartscenter.holycross.edu/event/a-p-a-r-t-works-from-the-2026-senior-concentration-seminar/
LOCATION:Iris & B. Gerald Cantor Art Gallery\, 1 College St\, Worcester\, MA\, 01610\, United States
CATEGORIES:Cantor Art Gallery,Department of Visual Arts,Events at The Prior
ATTACH;FMTTYPE=image/jpeg:https://priorperformingartscenter.holycross.edu/wp-content/uploads/2026/04/Senior-Concentration-Exhibition-2026-web-scaled.jpg
END:VEVENT
BEGIN:VEVENT
DTSTART;TZID=America/New_York:20260422T200000
DTEND;TZID=America/New_York:20260422T200000
DTSTAMP:20260422T063525
CREATED:20260119T182717Z
LAST-MODIFIED:20260415T133326Z
UID:5847-1776888000-1776888000@priorperformingartscenter.holycross.edu
SUMMARY:Holy Cross Orchestra & College Choir: Academic Conference Concert
DESCRIPTION:Department of Music\n			\n				\n				\n				\n				\n				Academic Conference Concert\n			\n				\n				\n				\n				\n				Timeless Musical Masterpieces for Orchestra and Chorus: Music from Beethoven to the Present \n			\n				\n				\n				\n				\n				Holy Cross Orchestra & College Choir\n			\n				Live Stream The Performance\n			\n				\n				\n				\n				\n				 \n\nThe Holy Cross Orchestra and College Choir will perform together at this year’s Academic Conference concert\, a can’t-miss highlight of the semester! \n\n			\n			\n				\n				\n				\n				\n			\n				\n				\n				\n				\n				\n				\n				\n				\n				\n				\n				Details\n \n			\n				\n				\n				\n				\n				April 22\, 20268 p.m. \n			\n			\n				\n				\n				\n				\n				\n				\n				\n				\n				\n				Price\n \n			\n				\n				\n				\n				\n				Free entry \n			\n			\n				\n				\n				\n				\n				\n				\n				\n				\n				\n				Venue\n \n			\n				\n				\n				\n				\n				\n\nLuth Concert HallPrior Performing Arts Center
URL:https://priorperformingartscenter.holycross.edu/event/holy-cross-orchestra-choir-concert/
LOCATION:Luth Concert Hall\, 1 College St.\, Worcester\, MA\, 01610\, United States
CATEGORIES:Department of Music,Events at The Prior
ATTACH;FMTTYPE=image/jpeg:https://priorperformingartscenter.holycross.edu/wp-content/uploads/2026/01/hc-orch-choir-web.jpg
END:VEVENT
END:VCALENDAR